BEGIN:VCALENDAR
VERSION:2.0
METHOD:PUBLISH
PRODID:-//Accessible Web Design//My Calendar//http://www.joedolson.com//v//EN';
BEGIN:VEVENT
UID:1-1
LOCATION:
SUMMARY:Apostolic Fellowship - Meet &amp; Greet
DTSTAMP:20220326T160000
ORGANIZER;CN=administrator:MAILTO:admin@priestsofyahweh.org
DTSTART:20220326T160000
DTEND:20220326T170000
CATEGORIES:General
URL;VALUE=URI:https://priestsofyahweh.org/mc-events/apostolic-fellowship-meet-greet/?mc_id=1
DESCRIPTION;ENCODING=QUOTED-PRINTABLE:
END:VEVENT
END:VCALENDAR